BEGIN:VCALENDAR
VERSION:2.0
PRODID:-//wp-events-plugin.com//7.2.3.1//EN
BEGIN:VEVENT
UID:8141@visitlebanonky.com
DTSTART;TZID=America/Kentucky/Louisville:20251206T160000
DTEND;TZID=America/Kentucky/Louisville:20251206T210000
DTSTAMP:20251125T014931Z
URL:https://visitlebanonky.com/events/christmas-in-bradfordsville/
SUMMARY:Christmas in Bradfordsville
DESCRIPTION:Bradfordsville Christmas in the Country will be  Saturday Decem
 ber 6\, 2025.\n\nThis year there will be a free chili meal at the school b
 eginning at 4:00 p.m. The menu will be chili\, sandwich\, drink\, and cook
 ies. Everyone is invited. There will be a cake wheel to win a delicious ca
 ke also at the school.\n\nThe parade line up begins at 5:30 p.m. at Dudley
 's Heat and Air.  At 6:00 p.m. the parade will begin and end at the school
  parking lot. Santa promises to be at the school at 6:30 p.m. to greet the
  children with cocoa and cookies.\n\nAt 7:00 p.m. there will be a Christma
 s Trivia  Competition.  Teams of NO more than 4 people will face trivia co
 mpetition. This will be in a room of the school building. $20.00 per team.
 \n\nThe best decorated house in Bradfordsville\, and the best decorated bu
 siness in Bradfordsville will be chosen this year. There will be a $25 gif
 t certificates given to the winner of each. There will also  be an award f
 or those outside the town proper within the Bradfordsville\narea.  A $25 g
 ift certificate will be given for this winner. All decorated houses and bu
 sinesses within Bradfordsville will be judged. If you are outside the town
  limits\, please call Michelle Allen at 270-402-4687 to be included in the
  judging.\n\nWe hope everyone comes out for the free meal\, the parade\, t
 he games\, and we hope that ALL will decorate to make our community festiv
 e as we celebrate Christmas In Bradfordsville 2025.\n\nFollow the Bradford
 sville School Community Building on Facebook HERE
ATTACH;FMTTYPE=image/jpeg:https://visitlebanonky.com/wp-content/uploads/20
 25/10/BVILLE.jpg
CATEGORIES:Community
LOCATION:Old Bradfordsville School Building\, 115 S 6th Street\, Bradfordsv
 ille\, Kentucky\, 40009\, United States
GEO:37.491772;-85.147819
X-APPLE-STRUCTURED-LOCATION;VALUE=URI;X-ADDRESS=115 S 6th Street\, Bradford
 sville\, Kentucky\, 40009\, United States;X-APPLE-RADIUS=100;X-TITLE=Old B
 radfordsville School Building:geo:37.491772,-85.147819
END:VEVENT
BEGIN:VTIMEZONE
TZID:America/Kentucky/Louisville
X-LIC-LOCATION:America/Kentucky/Louisville
BEGIN:STANDARD
DTSTART:20251102T010000
TZOFFSETFROM:-0400
TZOFFSETTO:-0500
TZNAME:EST
END:STANDARD
END:VTIMEZONE
END:VCALENDAR