BEGIN:VCALENDAR
VERSION:2.0
PRODID:-//wp-events-plugin.com//7.2.3.1//EN
BEGIN:VEVENT
UID:8147@visitlebanonky.com
DTSTART;TZID=America/Kentucky/Louisville:20251126T000000
DTEND;TZID=America/Kentucky/Louisville:20251126T000000
DTSTAMP:20251105T055402Z
URL:https://visitlebanonky.com/events/christmas-in-the-park/
SUMMARY:Christmas in the Park
DESCRIPTION:From the event page on Facebook here  \n🌟🎄 Annual Christm
 as in the Park 🎄 🌟\nJoin us for a magical night of holiday fun at Gr
 aham Memorial Park!\nEnjoy FREE ☕ hot chocolate\, 🍪 cookies\, and fes
 tive 🎶 music from 100.9!\nTake a walk around our glowing trail and enjo
 y the beautiful Christmas lights and displays donated by local businesses.
  🌟\n🚂 Train Rides for the Kids!\n🚒 Santa will arrive by Firetruck
 ! 🎅🔥\n📅 Date: November 26\, 2025\n🕡 Event Starts: 6:30 PM\n
 💡 Lighting of Displays: 7:00 PM\n🎅 Santa Arrives: 7:15 PM\n🎁 Disp
 lays will continue nightly through January 2\, 2024.\nWant to join the fun
 ?\n🎄 If you’d like to donate a display\, please contact:\n📞 Park O
 ffice: (270) 692-1155\n📞 Pool: (270) 692-9358
ATTACH;FMTTYPE=image/jpeg:https://visitlebanonky.com/wp-content/uploads/20
 25/10/christmas-in-the-park.jpg
CATEGORIES:Official
LOCATION:Graham Memorial Park\, 525 Graham Memorial Drive\, Lebanon\, Kentu
 cky\, 40033\, Marion County\, United States
GEO:37.562057;-85.249356
X-APPLE-STRUCTURED-LOCATION;VALUE=URI;X-ADDRESS=525 Graham Memorial Drive\,
  Lebanon\, Kentucky\, 40033\, Marion County\, United States;X-APPLE-RADIUS
 =100;X-TITLE=Graham Memorial Park:geo:37.562057,-85.249356
END:VEVENT
BEGIN:VTIMEZONE
TZID:America/Kentucky/Louisville
X-LIC-LOCATION:America/Kentucky/Louisville
BEGIN:STANDARD
DTSTART:20251102T010000
TZOFFSETFROM:-0400
TZOFFSETTO:-0500
TZNAME:EST
END:STANDARD
END:VTIMEZONE
END:VCALENDAR