BEGIN:VCALENDAR
VERSION:2.0
PRODID:-//wp-events-plugin.com//7.2.3.1//EN
BEGIN:VEVENT
UID:8337@visitlebanonky.com
DTSTART;TZID=America/Kentucky/Louisville:20251212T170000
DTEND;TZID=America/Kentucky/Louisville:20251212T220000
DTSTAMP:20251118T233456Z
URL:https://visitlebanonky.com/events/christmas-jamboree/
SUMMARY:Bradfordsville Christmas Jamboree
DESCRIPTION:Follow the Bradfordsville School Community Building on Facebook
  HERE\n\nCHRISTMAS JAMBOREE December 12th food @ 5 with Music @ 7\n\nCome 
 on out and join the fun. Good music\, good food\, and lots of good friends
 . Lots of door prizes\, 50/50\, and we might even have a visit from the ol
 d white bearded fellow. Hope to see you there.
ATTACH;FMTTYPE=image/jpeg:https://visitlebanonky.com/wp-content/uploads/20
 25/11/bville-jamboree.jpg
CATEGORIES:Community
LOCATION:Old Bradfordsville School Building\, 115 S 6th Street\, Bradfordsv
 ille\, Kentucky\, 40009\, United States
GEO:37.491772;-85.147819
X-APPLE-STRUCTURED-LOCATION;VALUE=URI;X-ADDRESS=115 S 6th Street\, Bradford
 sville\, Kentucky\, 40009\, United States;X-APPLE-RADIUS=100;X-TITLE=Old B
 radfordsville School Building:geo:37.491772,-85.147819
END:VEVENT
BEGIN:VTIMEZONE
TZID:America/Kentucky/Louisville
X-LIC-LOCATION:America/Kentucky/Louisville
BEGIN:STANDARD
DTSTART:20251102T010000
TZOFFSETFROM:-0400
TZOFFSETTO:-0500
TZNAME:EST
END:STANDARD
END:VTIMEZONE
END:VCALENDAR