BEGIN:VCALENDAR
VERSION:2.0
PRODID:-//wp-events-plugin.com//7.2.3.1//EN
BEGIN:VEVENT
UID:6614@visitlebanonky.com
DTSTART;TZID=America/Kentucky/Louisville:20241217T180000
DTEND;TZID=America/Kentucky/Louisville:20241217T200000
DTSTAMP:20241217T065933Z
URL:https://visitlebanonky.com/events/christmas-music-bingo-night/
SUMMARY:Christmas Music Bingo Night
DESCRIPTION:Christmas Music Bingo Night! 🎄🎶 TUESDAY!\nJoin us on Tues
 day\, December 17\, 2024\, for a festive evening of music bingo with a Chr
 istmas theme. It’s so much fun\, super easy to play\, and anyone can joi
 n in.\n🎁 Win a gift card and a free dessert to take home! It all starts
  at 6 pm.\nDon’t forget\, kids eat free on Tuesdays—one child 12 and u
 nder eats free from our kids menu with each purchase of an adult entrée o
 r pizza. 🍕🥗\nBring the whole family and enjoy a fun night at the Pub
 . We can’t wait to see you! 🎅✨
ATTACH;FMTTYPE=image/jpeg:https://visitlebanonky.com/wp-content/uploads/20
 24/12/music-bingo.jpg
CATEGORIES:Community
LOCATION:Pub 68\, 202 W. Main St.\, Lebanon\, Kentucky\, 40033\, Marion Cou
 nty\, United States
GEO:37.569117;-85.254444
X-APPLE-STRUCTURED-LOCATION;VALUE=URI;X-ADDRESS=202 W. Main St.\, Lebanon\,
  Kentucky\, 40033\, Marion County\, United States;X-APPLE-RADIUS=100;X-TIT
 LE=Pub 68:geo:37.569117,-85.254444
END:VEVENT
BEGIN:VTIMEZONE
TZID:America/Kentucky/Louisville
X-LIC-LOCATION:America/Kentucky/Louisville
BEGIN:STANDARD
DTSTART:20241103T010000
TZOFFSETFROM:-0400
TZOFFSETTO:-0500
TZNAME:EST
END:STANDARD
END:VTIMEZONE
END:VCALENDAR