BEGIN:VCALENDAR
VERSION:2.0
PRODID:-//wp-events-plugin.com//7.2.3.1//EN
BEGIN:VEVENT
UID:7619@visitlebanonky.com
DTSTART;TZID=America/Kentucky/Louisville:20250524T120000
DTEND;TZID=America/Kentucky/Louisville:20250524T160000
DTSTAMP:20250520T035011Z
URL:https://visitlebanonky.com/events/classic-car-truck-cruise-in/
SUMMARY:Classic Car & Truck Cruise In
DESCRIPTION:JOIN US for our 1st MEMORIAL DAY WEEKEND CLASSIC CAR & TRUCK CR
 UISE IN. We'll have Music\, Concessions\, Kids Activities\, & Game. Come c
 heck out the brand new Marion County Event Center & Sportsplex\, this will
  also be the last day to get your $10 Marion County Lifetime Membership.\n
 \nThe gymnasium area has approximately 23\,000 square feet of playable & r
 ecreation space. There are also three meeting/community rooms. It's set to
  open in mid April of 2025. If you are interested in scheduling your event
  at the MCECS contact Director Will Knight at william.knight@marioncountyk
 y.gov or call/text at 270-321-4014. You can find them on Facebook at https
 ://www.facebook.com/profile.php?id=61569075423725 
ATTACH;FMTTYPE=image/jpeg:https://visitlebanonky.com/wp-content/uploads/20
 25/05/car-show.jpg
CATEGORIES:Official
LOCATION:Marion County Event Center and Sportsplex\, 101 Independence Drive
  \, LEBANON\, KY\, 40033\, Marion County\, United States
X-APPLE-STRUCTURED-LOCATION;VALUE=URI;X-ADDRESS=101 Independence Drive \, L
 EBANON\, KY\, 40033\, Marion County\, United States;X-APPLE-RADIUS=100;X-T
 ITLE=Marion County Event Center and Sportsplex:geo:0,0
END:VEVENT
BEGIN:VTIMEZONE
TZID:America/Kentucky/Louisville
X-LIC-LOCATION:America/Kentucky/Louisville
BEGIN:DAYLIGHT
DTSTART:20250309T030000
TZOFFSETFROM:-0500
TZOFFSETTO:-0400
TZNAME:EDT
END:DAYLIGHT
END:VTIMEZONE
END:VCALENDAR