BEGIN:VCALENDAR
VERSION:2.0
PRODID:-//wp-events-plugin.com//7.2.3.1//EN
BEGIN:VEVENT
UID:8336@visitlebanonky.com
DTSTART;TZID=America/Kentucky/Louisville:20251118T000000
DTEND;TZID=America/Kentucky/Louisville:20251130T000000
DTSTAMP:20251118T194047Z
URL:https://visitlebanonky.com/events/coed-volleyball-league/
SUMMARY:Coed Volleyball League
DESCRIPTION:Just a few weeks away from our annual volleyball season! Please
  contact Jonathan Livers if you are interested or have any questions! \n
 🏐Come join the fun!🏐\nFind Muldraugh Hill on Facebook HERE or Jonath
 an Livers HERE
ATTACH;FMTTYPE=image/jpeg:https://visitlebanonky.com/wp-content/uploads/20
 25/11/muldraugh-Hill.jpg
CATEGORIES:Community
LOCATION:Muldraugh Hill Baptist Church\, 4430 Highway 289\, Lebanon\, Kentu
 cky\, 40033\, Marion County\, United States
GEO:37.474947;-85.329265
X-APPLE-STRUCTURED-LOCATION;VALUE=URI;X-ADDRESS=4430 Highway 289\, Lebanon\
 , Kentucky\, 40033\, Marion County\, United States;X-APPLE-RADIUS=100;X-TI
 TLE=Muldraugh Hill Baptist Church:geo:37.474947,-85.329265
END:VEVENT
BEGIN:VTIMEZONE
TZID:America/Kentucky/Louisville
X-LIC-LOCATION:America/Kentucky/Louisville
BEGIN:STANDARD
DTSTART:20251102T010000
TZOFFSETFROM:-0400
TZOFFSETTO:-0500
TZNAME:EST
END:STANDARD
END:VTIMEZONE
END:VCALENDAR