BEGIN:VCALENDAR
VERSION:2.0
PRODID:-//wp-events-plugin.com//7.2.3.1//EN
BEGIN:VEVENT
UID:6732@visitlebanonky.com
DTSTART;TZID=America/Kentucky/Louisville:20260108T090000
DTEND;TZID=America/Kentucky/Louisville:20260108T100000
DTSTAMP:20241230T204941Z
URL:https://visitlebanonky.com/events/coffee-and-donuts-with-a-veteran-2-2
 026-01-01/
SUMMARY:Coffee and Donuts With A Veteran
DESCRIPTION:Coffee and donuts with a Veteran meets at 9 a.m. the first Thur
 sday of each month except on holidays. We host speakers with veteran relat
 ed topics and offer special classes with hands on activities. Join us anyt
 ime or call if you need more information or have a suggestion of a speaker
 .\n\nFor more information on this and all events at the Marion County Libr
 ary please follow us on Facebook at https://www.facebook.com/MarionCoPubli
 cLibrary and sign up for our newsletter http://www.marioncopublic.org/ . Y
 ou can reach us by phone at 270.692.4698 or email marioncountypubliclibrar
 y@gmail.com . Changes and cancellations will be posted on our Facebook pag
 e.
ATTACH;FMTTYPE=image/jpeg:https://visitlebanonky.com/wp-content/uploads/20
 24/12/cofee.jpg
CATEGORIES:Community
LOCATION:Marion County Public Library\, 201 E. Main Street\, Lebanon\, KY/M
 arion\, 40033\, Marion County\, United States
X-APPLE-STRUCTURED-LOCATION;VALUE=URI;X-ADDRESS=201 E. Main Street\, Lebano
 n\, KY/Marion\, 40033\, Marion County\, United States;X-APPLE-RADIUS=100;X
 -TITLE=Marion County Public Library:geo:0,0
END:VEVENT
BEGIN:VTIMEZONE
TZID:America/Kentucky/Louisville
X-LIC-LOCATION:America/Kentucky/Louisville
BEGIN:STANDARD
DTSTART:20251102T010000
TZOFFSETFROM:-0400
TZOFFSETTO:-0500
TZNAME:EST
END:STANDARD
END:VTIMEZONE
END:VCALENDAR