BEGIN:VCALENDAR
VERSION:2.0
PRODID:-//wp-events-plugin.com//7.2.3.1//EN
BEGIN:VEVENT
UID:7577@visitlebanonky.com
DTSTART;TZID=America/Kentucky/Louisville:20250603T160000
DTEND;TZID=America/Kentucky/Louisville:20250603T180000
DTSTAMP:20250507T235856Z
URL:https://visitlebanonky.com/events/community-baby-shower/
SUMMARY:Community Baby Shower
DESCRIPTION: 
ATTACH;FMTTYPE=image/jpeg:https://visitlebanonky.com/wp-content/uploads/20
 25/05/community-baby-shower.jpg
CATEGORIES:Community
LOCATION:Venue 68\, 212 W Main St\, Lebanon\, KY/Marion\, 40033\, United St
 ates
X-APPLE-STRUCTURED-LOCATION;VALUE=URI;X-ADDRESS=212 W Main St\, Lebanon\, K
 Y/Marion\, 40033\, United States;X-APPLE-RADIUS=100;X-TITLE=Venue 68:geo:0
 ,0
END:VEVENT
BEGIN:VTIMEZONE
TZID:America/Kentucky/Louisville
X-LIC-LOCATION:America/Kentucky/Louisville
BEGIN:DAYLIGHT
DTSTART:20250309T030000
TZOFFSETFROM:-0500
TZOFFSETTO:-0400
TZNAME:EDT
END:DAYLIGHT
END:VTIMEZONE
END:VCALENDAR