BEGIN:VCALENDAR
VERSION:2.0
PRODID:-//wp-events-plugin.com//7.2.3.1//EN
BEGIN:VEVENT
UID:9110@visitlebanonky.com
DTSTART;TZID=America/Kentucky/Louisville:20260328T090000
DTEND;TZID=America/Kentucky/Louisville:20260328T103000
DTSTAMP:20260324T185248Z
URL:https://visitlebanonky.com/events/community-breakfast/
SUMMARY:Community Breakfast
DESCRIPTION:COMMUNITY BREAKFAST THIS SATURDAY! \nWe will be hosting our 2nd
  community breakfast this Saturday\, March 28th and YOU are invited!\nIf y
 ou were able to attend last month\, you know what an amazing and delicious
  time we had!  \nSausage\, bacon\, pancakes\, coffee cakes\, fruit\, pastr
 ies\, donuts\, biscuits\, casseroles\, and so much yummy goodness! \nBring
  your favorite breakfast dish and join us at 9 a.m. for an amazing meal\, 
 fellowship\, and lots of love! 
ATTACH;FMTTYPE=image/jpeg:https://visitlebanonky.com/wp-content/uploads/20
 26/03/COMMUNITY-BREAKFAST.jpg
CATEGORIES:Community
LOCATION:Gods Hands Ministries\, 170 Lebanon Trade Center\, Lebanon\, Kentu
 cky\, 40033\, Marion County\, United States
GEO:37.558888;-85.270473
X-APPLE-STRUCTURED-LOCATION;VALUE=URI;X-ADDRESS=170 Lebanon Trade Center\, 
 Lebanon\, Kentucky\, 40033\, Marion County\, United States;X-APPLE-RADIUS=
 100;X-TITLE=Gods Hands Ministries:geo:37.558888,-85.270473
END:VEVENT
BEGIN:VTIMEZONE
TZID:America/Kentucky/Louisville
X-LIC-LOCATION:America/Kentucky/Louisville
BEGIN:DAYLIGHT
DTSTART:20260308T030000
TZOFFSETFROM:-0500
TZOFFSETTO:-0400
TZNAME:EDT
END:DAYLIGHT
END:VTIMEZONE
END:VCALENDAR