BEGIN:VCALENDAR
VERSION:2.0
PRODID:-//wp-events-plugin.com//7.2.3.1//EN
BEGIN:VEVENT
UID:8431@visitlebanonky.com
DTSTART;TZID=America/Kentucky/Louisville:20251218T183000
DTEND;TZID=America/Kentucky/Louisville:20251218T203000
DTSTAMP:20251204T062341Z
URL:https://visitlebanonky.com/events/community-christmas-party-at-village
 -of-lebanon/
SUMMARY:Community Christmas Party at Village of Lebanon
DESCRIPTION:🎄✨ Community Christmas at Village of Lebanon ✨🎄\nMARK
  YOUR CALENDARS! ❤️\nThursday • December 18th • 630pm-830pm\nBring
  the kiddos & come enjoy a cozy evening of Christmas cheer with our reside
 nts!\n🎅📸 Pictures with Santa & Mrs. Claus\n🎨 Make-Your-Own Orname
 nt Station\n🖍️ Color a special picture for one of our residents\n☕
 ️ Enjoy hot chocolate and cookies\n❤️ Spread smiles + holiday joy!\n
 We hope to see you there!\n— Village of Lebanon Nursing & Rehab Center 
 ✨\nFind the Village of Lebanon on Facebook HERE
ATTACH;FMTTYPE=image/jpeg:https://visitlebanonky.com/wp-content/uploads/20
 25/12/village-of-lebanon.jpg
CATEGORIES:Community
LOCATION:Village of Lebanon Nursing Home\, 105 Village Way\, Lebanon\, KY\,
  40033\, Marion County\, United States
X-APPLE-STRUCTURED-LOCATION;VALUE=URI;X-ADDRESS=105 Village Way\, Lebanon\,
  KY\, 40033\, Marion County\, United States;X-APPLE-RADIUS=100;X-TITLE=Vil
 lage of Lebanon Nursing Home:geo:0,0
END:VEVENT
BEGIN:VTIMEZONE
TZID:America/Kentucky/Louisville
X-LIC-LOCATION:America/Kentucky/Louisville
BEGIN:STANDARD
DTSTART:20251102T010000
TZOFFSETFROM:-0400
TZOFFSETTO:-0500
TZNAME:EST
END:STANDARD
END:VTIMEZONE
END:VCALENDAR