BEGIN:VCALENDAR
VERSION:2.0
PRODID:-//wp-events-plugin.com//7.2.3.1//EN
BEGIN:VEVENT
UID:8684@visitlebanonky.com
DTSTART;TZID=America/Kentucky/Louisville:20260224T180000
DTEND;TZID=America/Kentucky/Louisville:20260224T200000
DTSTAMP:20260129T210821Z
URL:https://visitlebanonky.com/events/community-coming-together-carrie-gri
 bbins-truitt-campaign-kickoff/
SUMMARY:Carrie Gribbins Truitt Campaign Kickoff
DESCRIPTION:From the event page on Facebook HERE\nThis campaign is about pe
 ople\, community\, and moving forward together. Join Carrie Gribbins Truit
 t and neighbors from across LaRue\, Marion\, Nelson\, Spencer\, and Washin
 gton counties for a positive and exciting kickoff as we begin the work of 
 building a stronger Kentucky — together.\nCan’t make the event\, but w
 ant to help Carrie build momentum? Visit HERE to contribute TODAY! 
ATTACH;FMTTYPE=image/jpeg:https://visitlebanonky.com/wp-content/uploads/20
 26/01/CARRIE-TRUITT.jpg
CATEGORIES:Community
LOCATION:Venue 68\, 212 W Main St\, Lebanon\, KY/Marion\, 40033\, United St
 ates
X-APPLE-STRUCTURED-LOCATION;VALUE=URI;X-ADDRESS=212 W Main St\, Lebanon\, K
 Y/Marion\, 40033\, United States;X-APPLE-RADIUS=100;X-TITLE=Venue 68:geo:0
 ,0
END:VEVENT
BEGIN:VTIMEZONE
TZID:America/Kentucky/Louisville
X-LIC-LOCATION:America/Kentucky/Louisville
BEGIN:STANDARD
DTSTART:20251102T010000
TZOFFSETFROM:-0400
TZOFFSETTO:-0500
TZNAME:EST
END:STANDARD
END:VTIMEZONE
END:VCALENDAR