BEGIN:VCALENDAR
VERSION:2.0
PRODID:-//wp-events-plugin.com//7.2.3.1//EN
BEGIN:VEVENT
UID:9266@visitlebanonky.com
DTSTART;TZID=America/Kentucky/Louisville:20260509T120000
DTEND;TZID=America/Kentucky/Louisville:20260509T160000
DTSTAMP:20260424T004746Z
URL:https://visitlebanonky.com/events/cool-hits-106-5-wlbn-splash-n-cruise
 -5/
SUMMARY:Cool Hits 106.5 WLBN Splash N Cruise
DESCRIPTION:Get ready to have fun\, fun\, fun on the second Saturday of May
 \, June\, July and August for the 5th Annual Cool Hits 106.5 WLBN Splash N
  Cruises at Lebanon's Graham Memorial Park from Noon-4 p.m. Cars\, trucks\
 , SUV\, motorcycles\, and project vehicles are welcome. There will be musi
 c\, food\, prizes and more.\n
ATTACH;FMTTYPE=image/jpeg:https://visitlebanonky.com/wp-content/uploads/20
 25/04/splash-and-cruise-e1776987883619.png
CATEGORIES:Official
LOCATION:Graham Memorial Park\, 525 Graham Memorial Drive\, Lebanon\, Kentu
 cky\, 40033\, Marion County\, United States
GEO:37.562057;-85.249356
X-APPLE-STRUCTURED-LOCATION;VALUE=URI;X-ADDRESS=525 Graham Memorial Drive\,
  Lebanon\, Kentucky\, 40033\, Marion County\, United States;X-APPLE-RADIUS
 =100;X-TITLE=Graham Memorial Park:geo:37.562057,-85.249356
END:VEVENT
BEGIN:VTIMEZONE
TZID:America/Kentucky/Louisville
X-LIC-LOCATION:America/Kentucky/Louisville
BEGIN:DAYLIGHT
DTSTART:20260308T030000
TZOFFSETFROM:-0500
TZOFFSETTO:-0400
TZNAME:EDT
END:DAYLIGHT
END:VTIMEZONE
END:VCALENDAR