BEGIN:VCALENDAR
VERSION:2.0
PRODID:-//wp-events-plugin.com//7.2.3.1//EN
BEGIN:VEVENT
UID:9187@visitlebanonky.com
DTSTART;TZID=America/Kentucky/Louisville:20260420T180000
DTEND;TZID=America/Kentucky/Louisville:20260420T220000
DTSTAMP:20260413T152230Z
URL:https://visitlebanonky.com/events/cornbread-mafia-documentary-kentucky
 -premier/
SUMMARY:Cornbread Mafia Documentary Kentucky Premier
DESCRIPTION:The first Kentucky showing of the Cornbread Mafia Documentary w
 ill be on April 20 at 8 p.m. at Venue 68 in Lebanon\, KY. Doors will open 
 at 6 p.m. and the show will start at 8 p.m. This event is FREE to the publ
 ic. The documentary was number 1 in Austin\, Texas in March. You can find 
 other events at Venue 68 on Facebook HERE 
ATTACH;FMTTYPE=image/jpeg:https://visitlebanonky.com/wp-content/uploads/20
 26/04/the-real-cornbread-mafia.jpg
CATEGORIES:Community
LOCATION:Venue 68\, 212 W Main St\, Lebanon\, KY/Marion\, 40033\, United St
 ates
X-APPLE-STRUCTURED-LOCATION;VALUE=URI;X-ADDRESS=212 W Main St\, Lebanon\, K
 Y/Marion\, 40033\, United States;X-APPLE-RADIUS=100;X-TITLE=Venue 68:geo:0
 ,0
END:VEVENT
BEGIN:VTIMEZONE
TZID:America/Kentucky/Louisville
X-LIC-LOCATION:America/Kentucky/Louisville
BEGIN:DAYLIGHT
DTSTART:20260308T030000
TZOFFSETFROM:-0500
TZOFFSETTO:-0400
TZNAME:EDT
END:DAYLIGHT
END:VTIMEZONE
END:VCALENDAR