BEGIN:VCALENDAR
VERSION:2.0
PRODID:-//wp-events-plugin.com//7.2.3.1//EN
BEGIN:VEVENT
UID:8170@visitlebanonky.com
DTSTART;TZID=America/Kentucky/Louisville:20251101T170000
DTEND;TZID=America/Kentucky/Louisville:20251101T234500
DTSTAMP:20251029T002421Z
URL:https://visitlebanonky.com/events/costume-party-at-key-lounge/
SUMMARY:Costume Party at Key Lounge
DESCRIPTION:Event by Key Lounge\n109 North Depot St\, Lebanon\, KY\nAll out
  costume party at the Key Lounge!\nWinner will get a 200 dollar prize!\nYo
 u can find the event on Facebook at https://www.facebook.com/share/1C9YahQ
 WS3/
ATTACH;FMTTYPE=image/jpeg:https://visitlebanonky.com/wp-content/uploads/20
 25/10/costume-party.gif
CATEGORIES:Community
LOCATION:Key Lounge\, 109 North Depot Street\, Lebanon\, Kentucky\, 40033\,
  Marion County\, United States
GEO:37.568321;-85.256082
X-APPLE-STRUCTURED-LOCATION;VALUE=URI;X-ADDRESS=109 North Depot Street\, Le
 banon\, Kentucky\, 40033\, Marion County\, United States;X-APPLE-RADIUS=10
 0;X-TITLE=Key Lounge:geo:37.568321,-85.256082
END:VEVENT
BEGIN:VTIMEZONE
TZID:America/Kentucky/Louisville
X-LIC-LOCATION:America/Kentucky/Louisville
BEGIN:DAYLIGHT
DTSTART:20250309T030000
TZOFFSETFROM:-0500
TZOFFSETTO:-0400
TZNAME:EDT
END:DAYLIGHT
END:VTIMEZONE
END:VCALENDAR