BEGIN:VCALENDAR
VERSION:2.0
PRODID:-//wp-events-plugin.com//7.2.3.1//EN
BEGIN:VEVENT
UID:8183@visitlebanonky.com
DTSTART;TZID=America/Kentucky/Louisville:20251107T170000
DTEND;TZID=America/Kentucky/Louisville:20251107T190000
DTSTAMP:20251105T052732Z
URL:https://visitlebanonky.com/events/country-music-night-at-gravel-switch
 -station/
SUMMARY:Country Music Night at Gravel Switch Station
DESCRIPTION:Join us this Friday evening at 5 p.m. for an evening of country
  music. You can follow the Gravel switch Station on Facebook Here
ATTACH;FMTTYPE=image/jpeg:https://visitlebanonky.com/wp-content/uploads/20
 25/11/GS-Music.jpg
CATEGORIES:Community
LOCATION:Gravel Switch Station Restaurant\, 880 Gravel Switch Road\, Gravel
  Switch\, Kentucky\, 40328\, Marion County\, United States
GEO:37.578995;-85.052251
X-APPLE-STRUCTURED-LOCATION;VALUE=URI;X-ADDRESS=880 Gravel Switch Road\, Gr
 avel Switch\, Kentucky\, 40328\, Marion County\, United States;X-APPLE-RAD
 IUS=100;X-TITLE=Gravel Switch Station Restaurant:geo:37.578995,-85.052251
END:VEVENT
BEGIN:VTIMEZONE
TZID:America/Kentucky/Louisville
X-LIC-LOCATION:America/Kentucky/Louisville
BEGIN:STANDARD
DTSTART:20251102T010000
TZOFFSETFROM:-0400
TZOFFSETTO:-0500
TZNAME:EST
END:STANDARD
END:VTIMEZONE
END:VCALENDAR