BEGIN:VCALENDAR
VERSION:2.0
PRODID:-//wp-events-plugin.com//7.2.3.1//EN
BEGIN:VEVENT
UID:8894@visitlebanonky.com
DTSTART;TZID=America/Kentucky/Louisville:20260228T210000
DTEND;TZID=America/Kentucky/Louisville:20260228T234500
DTSTAMP:20260228T172529Z
URL:https://visitlebanonky.com/events/country-strong-at-the-pines/
SUMMARY:Country Strong at the Pines
DESCRIPTION:Country Strong Band will be playing at The Pines Bar in Lebanon
 \, Kentucky on Saturday night\, February 28 from 9:00 p.m. till 1 a.m. Ice
  cold beer\, great food\, pool tables\, dance floor\, and a great band. 
ATTACH;FMTTYPE=image/jpeg:https://visitlebanonky.com/wp-content/uploads/20
 26/02/country-strong-e1772299518891.jpg
CATEGORIES:Community
LOCATION:The Pines Restaurant and Bar\, 62220 Bradfordsville Road\, Lebanon
 \, KY/Marion\, 40033\, Marion County\, United States
GEO:42.03417;-91.59768
X-APPLE-STRUCTURED-LOCATION;VALUE=URI;X-ADDRESS=62220 Bradfordsville Road\,
  Lebanon\, KY/Marion\, 40033\, Marion County\, United States;X-APPLE-RADIU
 S=100;X-TITLE=The Pines Restaurant and Bar:geo:42.03417,-91.59768
END:VEVENT
BEGIN:VTIMEZONE
TZID:America/Kentucky/Louisville
X-LIC-LOCATION:America/Kentucky/Louisville
BEGIN:STANDARD
DTSTART:20251102T010000
TZOFFSETFROM:-0400
TZOFFSETTO:-0500
TZNAME:EST
END:STANDARD
END:VTIMEZONE
END:VCALENDAR