BEGIN:VCALENDAR
VERSION:2.0
PRODID:-//wp-events-plugin.com//7.2.3.1//EN
BEGIN:VEVENT
UID:9123@visitlebanonky.com
DTSTART;TZID=America/Kentucky/Louisville:20260502T090000
DTEND;TZID=America/Kentucky/Louisville:20260502T120000
DTSTAMP:20260324T222042Z
URL:https://visitlebanonky.com/events/cover-crop-field-day/
SUMMARY:Cover Crop Field Day
DESCRIPTION:Join Cody Rakes\, Loretto Motherhouse Farm Director\, and Dr. E
 rin Haramato\, University of Kentucky\, for an in-depth look at cover crop
 s.\nTopics Include:\nEstablishment\nVariety Selection\nSeed Sourcing\nTerm
 ination\nCost Share Programs Available\nFree lunch sponsored by IHG Seed S
 olutions\nRegistration Information Coming Soon! You can find this event on
  Facebook HERE
ATTACH;FMTTYPE=image/jpeg:https://visitlebanonky.com/wp-content/uploads/20
 26/03/cover-crop-field-day.jpg
CATEGORIES:Community
LOCATION:Loretto Motherhouse Farm\, 515 Nerinx Road\, Nerinx\, KY\, 40049\,
  United States
X-APPLE-STRUCTURED-LOCATION;VALUE=URI;X-ADDRESS=515 Nerinx Road\, Nerinx\, 
 KY\, 40049\, United States;X-APPLE-RADIUS=100;X-TITLE=Loretto Motherhouse 
 Farm:geo:0,0
END:VEVENT
BEGIN:VTIMEZONE
TZID:America/Kentucky/Louisville
X-LIC-LOCATION:America/Kentucky/Louisville
BEGIN:DAYLIGHT
DTSTART:20260308T030000
TZOFFSETFROM:-0500
TZOFFSETTO:-0400
TZNAME:EDT
END:DAYLIGHT
END:VTIMEZONE
END:VCALENDAR