BEGIN:VCALENDAR
VERSION:2.0
PRODID:-//wp-events-plugin.com//7.2.3.1//EN
BEGIN:VEVENT
UID:6596@visitlebanonky.com
DTSTART;TZID=America/Kentucky/Louisville:20241214T160000
DTEND;TZID=America/Kentucky/Louisville:20241214T180000
DTSTAMP:20241211T173510Z
URL:https://visitlebanonky.com/events/cram-the-cruiser/
SUMMARY:Cram the Cruiser
DESCRIPTION:🎄Attention🎄\nDon’t miss “Christmas in Calvary” this
  Saturday! We’ll be collecting food and monetary donations to support ou
 r community outreach programs. Come visit Santa—and rumor has it\, the G
 rinch will be making an appearance too!
ATTACH;FMTTYPE=image/jpeg:https://visitlebanonky.com/wp-content/uploads/20
 24/12/cram-cruiser.jpg
CATEGORIES:Official
LOCATION:Calvary Store\, 3635 Highway 208\, Lebanon\, Kentucky\, 40033\, Ma
 rion County\, United States
GEO:37.515606;-85.262882
X-APPLE-STRUCTURED-LOCATION;VALUE=URI;X-ADDRESS=3635 Highway 208\, Lebanon\
 , Kentucky\, 40033\, Marion County\, United States;X-APPLE-RADIUS=100;X-TI
 TLE=Calvary Store:geo:37.515606,-85.262882
END:VEVENT
BEGIN:VTIMEZONE
TZID:America/Kentucky/Louisville
X-LIC-LOCATION:America/Kentucky/Louisville
BEGIN:STANDARD
DTSTART:20241103T010000
TZOFFSETFROM:-0400
TZOFFSETTO:-0500
TZNAME:EST
END:STANDARD
END:VTIMEZONE
END:VCALENDAR