BEGIN:VCALENDAR
VERSION:2.0
PRODID:-//wp-events-plugin.com//7.2.3.1//EN
BEGIN:VEVENT
UID:6613@visitlebanonky.com
DTSTART;TZID=America/Kentucky/Louisville:20250203T000000
DTEND;TZID=America/Kentucky/Louisville:20250205T000000
DTSTAMP:20250107T215134Z
URL:https://visitlebanonky.com/events/creative-movement-class-sign-up-now/
SUMMARY:Creative Movement Class - Sign up now
DESCRIPTION:🎉 Class Highlight! 🎉\nDo you have a 3 or 4 year old desti
 ned for the stage?! We have just the thing to nurture their creativity and
  confidence! Enroll them in our Creative Movement Class.  
ATTACH;FMTTYPE=image/jpeg:https://visitlebanonky.com/wp-content/uploads/20
 24/12/performing-arts.jpg
CATEGORIES:Official
LOCATION:Central Ky Theatre at the Opera House\, 124 W. Main St.\, Springfi
 eld\, Kentucky\, 40069\, Washington County\, United States
GEO:37.685307;-85.222427
X-APPLE-STRUCTURED-LOCATION;VALUE=URI;X-ADDRESS=124 W. Main St.\, Springfie
 ld\, Kentucky\, 40069\, Washington County\, United States;X-APPLE-RADIUS=1
 00;X-TITLE=Central Ky Theatre at the Opera House:geo:37.685307,-85.222427
END:VEVENT
BEGIN:VTIMEZONE
TZID:America/Kentucky/Louisville
X-LIC-LOCATION:America/Kentucky/Louisville
BEGIN:STANDARD
DTSTART:20241103T010000
TZOFFSETFROM:-0400
TZOFFSETTO:-0500
TZNAME:EST
END:STANDARD
END:VTIMEZONE
END:VCALENDAR