BEGIN:VCALENDAR
VERSION:2.0
PRODID:-//wp-events-plugin.com//7.2.3.1//EN
BEGIN:VEVENT
UID:7641@visitlebanonky.com
DTSTART;TZID=America/Kentucky/Louisville:20250614T133000
DTEND;TZID=America/Kentucky/Louisville:20250614T220000
DTSTAMP:20250606T002818Z
URL:https://visitlebanonky.com/events/cromer-at-bradfordsvilles-old-mill/
SUMMARY:Musical Entertainment at Bradfordsville's Old Mill Days
DESCRIPTION:Find information on Facebook at https://www.facebook.com/profil
 e.php?id=100090369735034  We are so excited about this years music at the 
 park! You’re gonna want to make time to hang out at Old Mill Days and li
 sten to some of Kentuckys best musical artist 🎶
ATTACH;FMTTYPE=image/jpeg:https://visitlebanonky.com/wp-content/uploads/20
 25/05/old-mill-days-music.jpg
CATEGORIES:Official
LOCATION:Bradfordsville Park\, S Sixth Street\, Bradfordsville\, KY\, 40009
 \, Marion County\, United States
X-APPLE-STRUCTURED-LOCATION;VALUE=URI;X-ADDRESS=S Sixth Street\, Bradfordsv
 ille\, KY\, 40009\, Marion County\, United States;X-APPLE-RADIUS=100;X-TIT
 LE=Bradfordsville Park:geo:0,0
END:VEVENT
BEGIN:VTIMEZONE
TZID:America/Kentucky/Louisville
X-LIC-LOCATION:America/Kentucky/Louisville
BEGIN:DAYLIGHT
DTSTART:20250309T030000
TZOFFSETFROM:-0500
TZOFFSETTO:-0400
TZNAME:EDT
END:DAYLIGHT
END:VTIMEZONE
END:VCALENDAR