BEGIN:VCALENDAR
VERSION:2.0
PRODID:-//wp-events-plugin.com//7.2.3.1//EN
BEGIN:VEVENT
UID:8946@visitlebanonky.com
DTSTART;TZID=America/Kentucky/Louisville:20260321T000000
DTEND;TZID=America/Kentucky/Louisville:20260321T000000
DTSTAMP:20260306T171822Z
URL:https://visitlebanonky.com/events/cromer-at-the-pines-3/
SUMMARY:Cromer at The Pines
DESCRIPTION:Follow the event on Facebook HERE\n9 p.m. till 1 a.m.
ATTACH;FMTTYPE=image/jpeg:https://visitlebanonky.com/wp-content/uploads/20
 26/03/cromer.jpg
CATEGORIES:Community
LOCATION:The Pines Restaurant and Bar\, 62220 Bradfordsville Road\, Lebanon
 \, KY/Marion\, 40033\, Marion County\, United States
GEO:42.03417;-91.59768
X-APPLE-STRUCTURED-LOCATION;VALUE=URI;X-ADDRESS=62220 Bradfordsville Road\,
  Lebanon\, KY/Marion\, 40033\, Marion County\, United States;X-APPLE-RADIU
 S=100;X-TITLE=The Pines Restaurant and Bar:geo:42.03417,-91.59768
END:VEVENT
BEGIN:VTIMEZONE
TZID:America/Kentucky/Louisville
X-LIC-LOCATION:America/Kentucky/Louisville
BEGIN:DAYLIGHT
DTSTART:20260308T030000
TZOFFSETFROM:-0500
TZOFFSETTO:-0400
TZNAME:EDT
END:DAYLIGHT
END:VTIMEZONE
END:VCALENDAR