BEGIN:VCALENDAR
VERSION:2.0
PRODID:-//wp-events-plugin.com//7.2.3.1//EN
BEGIN:VEVENT
UID:7608@visitlebanonky.com
DTSTART;TZID=America/Kentucky/Louisville:20250602T170000
DTEND;TZID=America/Kentucky/Louisville:20250602T180000
DTSTAMP:20250516T193758Z
URL:https://visitlebanonky.com/events/cross-country-meeting/
SUMMARY:Cross Country Meeting
DESCRIPTION:There will be an informational meeting for all ages interested 
 in MCHS Cross Country on June 2 at 5 p.m. in the MCHS cafeteria. This is f
 or new and existing members. You can follow the team on Facebook at https:
 //www.facebook.com/profile.php?id=100076274493689 
ATTACH;FMTTYPE=image/jpeg:https://visitlebanonky.com/wp-content/uploads/20
 25/05/cross-country.jpg
CATEGORIES:Community
LOCATION:MCHS Cafeteria\, 735 East Main Street\, Lebanon\, Kentucky\, 40033
 \, Marion County\, United States
GEO:37.574128;-85.242018
X-APPLE-STRUCTURED-LOCATION;VALUE=URI;X-ADDRESS=735 East Main Street\, Leba
 non\, Kentucky\, 40033\, Marion County\, United States;X-APPLE-RADIUS=100;
 X-TITLE=MCHS Cafeteria:geo:37.574128,-85.242018
END:VEVENT
BEGIN:VTIMEZONE
TZID:America/Kentucky/Louisville
X-LIC-LOCATION:America/Kentucky/Louisville
BEGIN:DAYLIGHT
DTSTART:20250309T030000
TZOFFSETFROM:-0500
TZOFFSETTO:-0400
TZNAME:EDT
END:DAYLIGHT
END:VTIMEZONE
END:VCALENDAR