BEGIN:VCALENDAR
VERSION:2.0
PRODID:-//wp-events-plugin.com//7.2.3.1//EN
BEGIN:VEVENT
UID:9128@visitlebanonky.com
DTSTART;TZID=America/Kentucky/Louisville:20260530T064500
DTEND;TZID=America/Kentucky/Louisville:20260530T140000
DTSTAMP:20260324T232903Z
URL:https://visitlebanonky.com/events/crusade-for-children-bass-fishing-to
 urnament/
SUMMARY:Crusade For Children Bass Fishing Tournament
DESCRIPTION:You can find this event on Facebook HERE
ATTACH;FMTTYPE=image/jpeg:https://visitlebanonky.com/wp-content/uploads/20
 26/03/bass-fishing-tournament.jpg
CATEGORIES:Community
LOCATION:Fagan Branch Lake\, 370 Fagan Branch Road\, Lebanon\, Kentucky\, 4
 0033\, Marion County\, United States
GEO:37.517134;-85.238512
X-APPLE-STRUCTURED-LOCATION;VALUE=URI;X-ADDRESS=370 Fagan Branch Road\, Leb
 anon\, Kentucky\, 40033\, Marion County\, United States;X-APPLE-RADIUS=100
 ;X-TITLE=Fagan Branch Lake:geo:37.517134,-85.238512
END:VEVENT
BEGIN:VTIMEZONE
TZID:America/Kentucky/Louisville
X-LIC-LOCATION:America/Kentucky/Louisville
BEGIN:DAYLIGHT
DTSTART:20260308T030000
TZOFFSETFROM:-0500
TZOFFSETTO:-0400
TZNAME:EDT
END:DAYLIGHT
END:VTIMEZONE
END:VCALENDAR