BEGIN:VCALENDAR
VERSION:2.0
PRODID:-//wp-events-plugin.com//7.2.3.1//EN
BEGIN:VEVENT
UID:8908@visitlebanonky.com
DTSTART;TZID=America/Kentucky/Louisville:20260516T100000
DTEND;TZID=America/Kentucky/Louisville:20260516T150000
DTSTAMP:20260228T200625Z
URL:https://visitlebanonky.com/events/crusade-for-children-trap-shoot-2/
SUMMARY:Crusade For Children Trap Shoot
DESCRIPTION:Follow the club's page on Facebook HERE for this and other even
 ts as well as specific times.\n 
ATTACH;FMTTYPE=image/jpeg:https://visitlebanonky.com/wp-content/uploads/20
 26/02/CRUSADE-TRAP-SHOOT.jpg
CATEGORIES:Community
LOCATION:Marion County Sportsmans Club\, 716 Sportsmans Lake Road\, Lebanon
 \, Kentucky\, 40033\, Marion County\, United States
GEO:37.51209;-85.24837
X-APPLE-STRUCTURED-LOCATION;VALUE=URI;X-ADDRESS=716 Sportsmans Lake Road\, 
 Lebanon\, Kentucky\, 40033\, Marion County\, United States;X-APPLE-RADIUS=
 100;X-TITLE=Marion County Sportsmans Club:geo:37.51209,-85.24837
END:VEVENT
BEGIN:VTIMEZONE
TZID:America/Kentucky/Louisville
X-LIC-LOCATION:America/Kentucky/Louisville
BEGIN:DAYLIGHT
DTSTART:20260308T030000
TZOFFSETFROM:-0500
TZOFFSETTO:-0400
TZNAME:EDT
END:DAYLIGHT
END:VTIMEZONE
END:VCALENDAR