BEGIN:VCALENDAR
VERSION:2.0
PRODID:-//wp-events-plugin.com//7.2.3.1//EN
BEGIN:VEVENT
UID:8079@visitlebanonky.com
DTSTART:20251016T000000Z
DTEND:20251016T000000Z
DTSTAMP:20251008T154850Z
URL:https://visitlebanonky.com/events/dallas-robinson-ky-state-senator-lau
 nch-event/
SUMMARY:Dallas Robinson KY State Senator Launch Event
DESCRIPTION:From the Facebook event page https://www.facebook.com/share/19v
 GA7QDKi/\nCome to the Key Lounge in downtown Lebanon to celebrate Dallas R
 obinson's official campaign launch for Kentucky State Senate. Meet incredi
 ble people\, ask questions\, laugh and have fun!\nDallas will speak briefl
 y at 7 p.m. but will be there all night to speak individually with everyon
 e.
ATTACH;FMTTYPE=image/jpeg:https://visitlebanonky.com/wp-content/uploads/20
 25/10/dallas.jpg
CATEGORIES:Community
LOCATION:Key Lounge\, 109 North Depot Street\, Lebanon\, Kentucky\, 40033\,
  Marion County\, United States
GEO:37.568321;-85.256082
X-APPLE-STRUCTURED-LOCATION;VALUE=URI;X-ADDRESS=109 North Depot Street\, Le
 banon\, Kentucky\, 40033\, Marion County\, United States;X-APPLE-RADIUS=10
 0;X-TITLE=Key Lounge:geo:37.568321,-85.256082
END:VEVENT
END:VCALENDAR