BEGIN:VCALENDAR
VERSION:2.0
PRODID:-//wp-events-plugin.com//7.2.3.1//EN
BEGIN:VEVENT
UID:9264@visitlebanonky.com
DTSTART;TZID=America/Kentucky/Louisville:20260502T120000
DTEND;TZID=America/Kentucky/Louisville:20260502T234500
DTSTAMP:20260423T205222Z
URL:https://visitlebanonky.com/events/derby-at-the-key-lounge/
SUMMARY:Derby at the Key Lounge
DESCRIPTION:You can follow the Key Lounge HERE\nGet ready for Derby at Key 
 Lounge. Doors open at noon! Come watch the races and have a drink with Bec
 ca and Tyssis. Southern Boyz Food Truck will be with us until 10:30 p.m. W
 e'll have the music going until midnight! 🏇🏇🏇\nAs always\, no mem
 bership required.
ATTACH;FMTTYPE=image/jpeg:https://visitlebanonky.com/wp-content/uploads/20
 26/04/key-lounge-derby.jpg
CATEGORIES:Community
LOCATION:Key Lounge\, 109 North Depot Street\, Lebanon\, Kentucky\, 40033\,
  Marion County\, United States
GEO:37.568321;-85.256082
X-APPLE-STRUCTURED-LOCATION;VALUE=URI;X-ADDRESS=109 North Depot Street\, Le
 banon\, Kentucky\, 40033\, Marion County\, United States;X-APPLE-RADIUS=10
 0;X-TITLE=Key Lounge:geo:37.568321,-85.256082
END:VEVENT
BEGIN:VTIMEZONE
TZID:America/Kentucky/Louisville
X-LIC-LOCATION:America/Kentucky/Louisville
BEGIN:DAYLIGHT
DTSTART:20260308T030000
TZOFFSETFROM:-0500
TZOFFSETTO:-0400
TZNAME:EDT
END:DAYLIGHT
END:VTIMEZONE
END:VCALENDAR