BEGIN:VCALENDAR
VERSION:2.0
PRODID:-//wp-events-plugin.com//7.2.3.1//EN
BEGIN:VEVENT
UID:7561@visitlebanonky.com
DTSTART;TZID=America/Kentucky/Louisville:20250503T000000
DTEND;TZID=America/Kentucky/Louisville:20250503T000000
DTSTAMP:20250428T014121Z
URL:https://visitlebanonky.com/events/derby-on-main-kids-events-2/
SUMMARY:Derby on Main - Kids Events
DESCRIPTION:Derby Kids – Full of Fun & FREE! 🐎🎉🌹\n📍Get ready 
 for a day of fun for all ages! All activities except bounce houses will be
  located inside Pub 68! Rain or shine we are ready for a fun day!\nHere’
 s what’s to expect:\n🎩 DIY Derby Hat Station\n🎨 Crafting & Colorin
 g Fun\n‍‍‍‍🎭 Face Painting\n🐎 Horseshoe Toss\n🏰 Bounce Ho
 uses\n… and SO much more!\nWe can’t wait to see you on May 3rd!\nBring
  the whole crew and let the Derby fun begin!🎉
ATTACH;FMTTYPE=image/jpeg:https://visitlebanonky.com/wp-content/uploads/20
 25/04/derby-kids.jpg
CATEGORIES:Official
LOCATION:Pub 68\, 202 W. Main St.\, Lebanon\, Kentucky\, 40033\, Marion Cou
 nty\, United States
GEO:37.569117;-85.254444
X-APPLE-STRUCTURED-LOCATION;VALUE=URI;X-ADDRESS=202 W. Main St.\, Lebanon\,
  Kentucky\, 40033\, Marion County\, United States;X-APPLE-RADIUS=100;X-TIT
 LE=Pub 68:geo:37.569117,-85.254444
END:VEVENT
BEGIN:VTIMEZONE
TZID:America/Kentucky/Louisville
X-LIC-LOCATION:America/Kentucky/Louisville
BEGIN:DAYLIGHT
DTSTART:20250309T030000
TZOFFSETFROM:-0500
TZOFFSETTO:-0400
TZNAME:EDT
END:DAYLIGHT
END:VTIMEZONE
END:VCALENDAR