BEGIN:VCALENDAR
VERSION:2.0
PRODID:-//wp-events-plugin.com//7.2.3.1//EN
BEGIN:VEVENT
UID:9183@visitlebanonky.com
DTSTART;TZID=America/Kentucky/Louisville:20260422T180000
DTEND;TZID=America/Kentucky/Louisville:20260422T193000
DTSTAMP:20260410T193844Z
URL:https://visitlebanonky.com/events/distinguished-young-woman-parent-mee
 ting/
SUMMARY:Distinguished Young Woman Parent Meeting
DESCRIPTION:Please join us!\nAll interested participants plus a Parent/Guar
 dian are invited to attend\, as additional information about this year's p
 rogram will be shared. \nWednesday\, April 22\n6 p.m.\nMCHS Cafeteria \nEv
 en if you missed the Interest Meeting in March\, it's not too late. We wou
 ld still love to have you!\nWhether you're unsure about participating or 1
 00% certain\, please join us to learn more.\nWe are excited to see everyon
 e!
ATTACH;FMTTYPE=image/jpeg:https://visitlebanonky.com/wp-content/uploads/20
 26/04/dyw.jpg
CATEGORIES:Community
LOCATION:MCHS Cafeteria\, 735 East Main Street\, Lebanon\, Kentucky\, 40033
 \, Marion County\, United States
GEO:37.574128;-85.242018
X-APPLE-STRUCTURED-LOCATION;VALUE=URI;X-ADDRESS=735 East Main Street\, Leba
 non\, Kentucky\, 40033\, Marion County\, United States;X-APPLE-RADIUS=100;
 X-TITLE=MCHS Cafeteria:geo:37.574128,-85.242018
END:VEVENT
BEGIN:VTIMEZONE
TZID:America/Kentucky/Louisville
X-LIC-LOCATION:America/Kentucky/Louisville
BEGIN:DAYLIGHT
DTSTART:20260308T030000
TZOFFSETFROM:-0500
TZOFFSETTO:-0400
TZNAME:EDT
END:DAYLIGHT
END:VTIMEZONE
END:VCALENDAR