BEGIN:VCALENDAR
VERSION:2.0
PRODID:-//wp-events-plugin.com//7.2.3.1//EN
BEGIN:VEVENT
UID:7604@visitlebanonky.com
DTSTART;TZID=America/Kentucky/Louisville:20250525T130000
DTEND;TZID=America/Kentucky/Louisville:20250525T150000
DTSTAMP:20250516T183251Z
URL:https://visitlebanonky.com/events/distinguished-young-women-of-marion-
 county-tea-and-awards/
SUMMARY:Distinguished Young Women of Marion County Tea and Awards
DESCRIPTION:From Distinguished Young Women of Marion County \n🌟Attention
  2026 Participants & 2025 Award Winners🌟\n2026 Tea & 2025 Awards \nSund
 ay\, May 25 at 1:00pm\nat Rosewood’s Banquet Room\nAll 2026 interested p
 articipants and their mother/role model are invited to attend. \nThis will
  be the last call for participation\, as Participant Numbers will be drawn
 \, Groups finalized\, & photos will be taken for the program book. Come jo
 in us!\nAward winners from Class of 2025 will also be recognized & photogr
 aphed.\nWe are so excited & can’t wait to see everyone!
ATTACH;FMTTYPE=image/jpeg:https://visitlebanonky.com/wp-content/uploads/20
 25/05/dyw.jpg
CATEGORIES:Community
LOCATION:Rosewood Bar &amp\; Grill Banquet Room\, 520 Fairway Dr.\, Lebanon
 \, KY/Marion\, 40033\, Marion County\, United States
X-APPLE-STRUCTURED-LOCATION;VALUE=URI;X-ADDRESS=520 Fairway Dr.\, Lebanon\,
  KY/Marion\, 40033\, Marion County\, United States;X-APPLE-RADIUS=100;X-TI
 TLE=Rosewood Bar & Grill Banquet Room:geo:0,0
END:VEVENT
BEGIN:VTIMEZONE
TZID:America/Kentucky/Louisville
X-LIC-LOCATION:America/Kentucky/Louisville
BEGIN:DAYLIGHT
DTSTART:20250309T030000
TZOFFSETFROM:-0500
TZOFFSETTO:-0400
TZNAME:EDT
END:DAYLIGHT
END:VTIMEZONE
END:VCALENDAR