BEGIN:VCALENDAR
VERSION:2.0
PRODID:-//wp-events-plugin.com//7.2.3.1//EN
BEGIN:VEVENT
UID:8892@visitlebanonky.com
DTSTART;TZID=America/Kentucky/Louisville:20260228T140000
DTEND;TZID=America/Kentucky/Louisville:20260228T170000
DTSTAMP:20260219T220233Z
URL:https://visitlebanonky.com/events/domino-tournament/
SUMMARY:Domino Tournament
DESCRIPTION:Domino Tournament \nContact David Hazelwood to enter 270-223-01
 17  
ATTACH;FMTTYPE=image/jpeg:https://visitlebanonky.com/wp-content/uploads/20
 26/02/Dominos.jpg
CATEGORIES:Community
LOCATION:Donna Fayes Kitchen\, 201 N Depot St\, Lebanon\, Kentucky\, 40033\
 , Marion County\, United States
GEO:37.569907;-85.257653
X-APPLE-STRUCTURED-LOCATION;VALUE=URI;X-ADDRESS=201 N Depot St\, Lebanon\, 
 Kentucky\, 40033\, Marion County\, United States;X-APPLE-RADIUS=100;X-TITL
 E=Donna Fayes Kitchen:geo:37.569907,-85.257653
END:VEVENT
BEGIN:VTIMEZONE
TZID:America/Kentucky/Louisville
X-LIC-LOCATION:America/Kentucky/Louisville
BEGIN:STANDARD
DTSTART:20251102T010000
TZOFFSETFROM:-0400
TZOFFSETTO:-0500
TZNAME:EST
END:STANDARD
END:VTIMEZONE
END:VCALENDAR