BEGIN:VCALENDAR
VERSION:2.0
PRODID:-//wp-events-plugin.com//7.2.3.1//EN
BEGIN:VEVENT
UID:8510@visitlebanonky.com
DTSTART;TZID=America/Kentucky/Louisville:20260118T140000
DTEND;TZID=America/Kentucky/Louisville:20260118T160000
DTSTAMP:20260105T232606Z
URL:https://visitlebanonky.com/events/dr-m-l-king-day-march-and-program/
SUMMARY:Dr. M.L. King Jr. Day March and Program
DESCRIPTION:Please note the walk starts at the Lebanon Post Office at 101 E
 . Main Street\, Lebanon.
ATTACH;FMTTYPE=image/jpeg:https://visitlebanonky.com/wp-content/uploads/20
 26/01/ml-king.jpg
CATEGORIES:Community
LOCATION:Marion County Public Library\, 201 E Main St\, Lebanon\, KY/Marion
 \, 40033\, Marion County\, United States
X-APPLE-STRUCTURED-LOCATION;VALUE=URI;X-ADDRESS=201 E Main St\, Lebanon\, K
 Y/Marion\, 40033\, Marion County\, United States;X-APPLE-RADIUS=100;X-TITL
 E=Marion County Public Library:geo:0,0
END:VEVENT
BEGIN:VTIMEZONE
TZID:America/Kentucky/Louisville
X-LIC-LOCATION:America/Kentucky/Louisville
BEGIN:STANDARD
DTSTART:20251102T010000
TZOFFSETFROM:-0400
TZOFFSETTO:-0500
TZNAME:EST
END:STANDARD
END:VTIMEZONE
END:VCALENDAR