BEGIN:VCALENDAR
VERSION:2.0
PRODID:-//wp-events-plugin.com//7.2.3.1//EN
BEGIN:VEVENT
UID:8907@visitlebanonky.com
DTSTART;TZID=America/Kentucky/Louisville:20260404T130000
DTEND;TZID=America/Kentucky/Louisville:20260404T143000
DTSTAMP:20260228T200417Z
URL:https://visitlebanonky.com/events/easter-bunny-and-easter-egg-hunt/
SUMMARY:Easter Bunny and Easter Egg Hunt
DESCRIPTION:Easter Egg Hunt April 4. We will have the Easter Bunny visiting
  with a hunt for kids and adults. Follow the club's page on Facebook HERE 
 for this and other events as well as specific times.\n 
ATTACH;FMTTYPE=image/jpeg:https://visitlebanonky.com/wp-content/uploads/20
 26/02/easter-egg.jpg
CATEGORIES:Community
LOCATION:Marion County Sportsmans Club\, 716 Sportsmans Lake Road\, Lebanon
 \, Kentucky\, 40033\, Marion County\, United States
GEO:37.51209;-85.24837
X-APPLE-STRUCTURED-LOCATION;VALUE=URI;X-ADDRESS=716 Sportsmans Lake Road\, 
 Lebanon\, Kentucky\, 40033\, Marion County\, United States;X-APPLE-RADIUS=
 100;X-TITLE=Marion County Sportsmans Club:geo:37.51209,-85.24837
END:VEVENT
BEGIN:VTIMEZONE
TZID:America/Kentucky/Louisville
X-LIC-LOCATION:America/Kentucky/Louisville
BEGIN:DAYLIGHT
DTSTART:20260308T030000
TZOFFSETFROM:-0500
TZOFFSETTO:-0400
TZNAME:EDT
END:DAYLIGHT
END:VTIMEZONE
END:VCALENDAR