BEGIN:VCALENDAR
VERSION:2.0
PRODID:-//wp-events-plugin.com//7.2.3.1//EN
BEGIN:VEVENT
UID:9145@visitlebanonky.com
DTSTART;TZID=America/Kentucky/Louisville:20260329T084500
DTEND;TZID=America/Kentucky/Louisville:20260329T120000
DTSTAMP:20260328T044334Z
URL:https://visitlebanonky.com/events/easter-cantata-at-lebanon-methodist-
 church/
SUMMARY:Easter Cantata at Lebanon Methodist Church
DESCRIPTION:On Sunday\, March 29\, LMC Choir will celebrate Palm Sunday wit
 h our Easter Cantata. Please attend in-person at 10:00 a.m. and on FB live
  HERE. A light breakfast is at 8:45 a.m. and Sunday School is at 9:15 a.m.
  You can download a bulletin HERE  
ATTACH;FMTTYPE=image/jpeg:https://visitlebanonky.com/wp-content/uploads/20
 26/03/methodist.jpg
CATEGORIES:Community
LOCATION:Lebanon Methodist Church\, 236 N Spalding Avenue \, Lebanon\, Kent
 ucky\, 40033\, Marion County\, United States
GEO:37.572108;-85.253871
X-APPLE-STRUCTURED-LOCATION;VALUE=URI;X-ADDRESS=236 N Spalding Avenue \, Le
 banon\, Kentucky\, 40033\, Marion County\, United States;X-APPLE-RADIUS=10
 0;X-TITLE=Lebanon Methodist Church:geo:37.572108,-85.253871
END:VEVENT
BEGIN:VTIMEZONE
TZID:America/Kentucky/Louisville
X-LIC-LOCATION:America/Kentucky/Louisville
BEGIN:DAYLIGHT
DTSTART:20260308T030000
TZOFFSETFROM:-0500
TZOFFSETTO:-0400
TZNAME:EDT
END:DAYLIGHT
END:VTIMEZONE
END:VCALENDAR