BEGIN:VCALENDAR
VERSION:2.0
PRODID:-//wp-events-plugin.com//7.2.3.1//EN
BEGIN:VEVENT
UID:9161@visitlebanonky.com
DTSTART;TZID=America/Kentucky/Louisville:20260404T110000
DTEND;TZID=America/Kentucky/Louisville:20260404T120000
DTSTAMP:20260401T205541Z
URL:https://visitlebanonky.com/events/easter-egg-hunt/
SUMMARY:Easter Egg Hunt
DESCRIPTION:Hop on over to the Forkland Community Center on Saturday\, Apri
 l 4 for our annual Easter egg hunt\, come rain or shine! There will be can
 dy and prizes available for all kids 12 and under. Be sure to bring your o
 wn basket! This is a free event to attend. You can find this event on Face
 book HERE
ATTACH;FMTTYPE=image/jpeg:https://visitlebanonky.com/wp-content/uploads/20
 26/04/easter-egg-hunt.jpg
CATEGORIES:Community
LOCATION:Forkland Community Center\, 16479 Forkland Rd.\, Gravel Switch\, K
 Y/Boyle\, 40328\, Boyle County\, United States
X-APPLE-STRUCTURED-LOCATION;VALUE=URI;X-ADDRESS=16479 Forkland Rd.\, Gravel
  Switch\, KY/Boyle\, 40328\, Boyle County\, United States;X-APPLE-RADIUS=1
 00;X-TITLE=Forkland Community Center:geo:0,0
END:VEVENT
BEGIN:VTIMEZONE
TZID:America/Kentucky/Louisville
X-LIC-LOCATION:America/Kentucky/Louisville
BEGIN:DAYLIGHT
DTSTART:20260308T030000
TZOFFSETFROM:-0500
TZOFFSETTO:-0400
TZNAME:EDT
END:DAYLIGHT
END:VTIMEZONE
END:VCALENDAR