BEGIN:VCALENDAR
VERSION:2.0
PRODID:-//wp-events-plugin.com//7.2.3.1//EN
BEGIN:VEVENT
UID:8515@visitlebanonky.com
DTSTART;TZID=America/Kentucky/Louisville:20260106T000000
DTEND;TZID=America/Kentucky/Louisville:20260106T000000
DTSTAMP:20260106T203419Z
URL:https://visitlebanonky.com/events/eat-at-la-fuente-in-support-of-proje
 ct-graduation/
SUMMARY:Eat at La Fuente in Support of Project Graduation
DESCRIPTION:It’s Taco Tuesday! Go enjoy some food and support the 2026 Pr
 oject Gradation! 
ATTACH;FMTTYPE=image/jpeg:https://visitlebanonky.com/wp-content/uploads/20
 26/01/project-graduation.jpg
CATEGORIES:Community
LOCATION:La Fuente Mexican Restaurant\, 784 W. Main Street\, Lebanon\, Kent
 ucky\, 40033\, Marion County\, United States
GEO:37.559216;-85.272157
X-APPLE-STRUCTURED-LOCATION;VALUE=URI;X-ADDRESS=784 W. Main Street\, Lebano
 n\, Kentucky\, 40033\, Marion County\, United States;X-APPLE-RADIUS=100;X-
 TITLE=La Fuente Mexican Restaurant:geo:37.559216,-85.272157
END:VEVENT
BEGIN:VTIMEZONE
TZID:America/Kentucky/Louisville
X-LIC-LOCATION:America/Kentucky/Louisville
BEGIN:STANDARD
DTSTART:20251102T010000
TZOFFSETFROM:-0400
TZOFFSETTO:-0500
TZNAME:EST
END:STANDARD
END:VTIMEZONE
END:VCALENDAR