BEGIN:VCALENDAR
VERSION:2.0
PRODID:-//wp-events-plugin.com//7.2.3.1//EN
BEGIN:VEVENT
UID:6290@visitlebanonky.com
DTSTART;TZID=America/Kentucky/Louisville:20241024T163000
DTEND;TZID=America/Kentucky/Louisville:20241024T183000
DTSTAMP:20241017T212055Z
URL:https://visitlebanonky.com/events/ectc-springfield-campus-halloween-ev
 ent/
SUMMARY:ECTC Springfield Campus Halloween Event
DESCRIPTION:Halloween event at ECTC at the Springfield campus. Bring your k
 ids or family for a fun night with games and trick or treating.\n 
ATTACH;FMTTYPE=image/jpeg:https://visitlebanonky.com/wp-content/uploads/20
 24/10/ectc.jpg
CATEGORIES:Community
LOCATION:ECTC Springfield Campus\, 160 Corporate Drive\, Springfield\, Kent
 ucky\, 40069\, Washington County\, United States
GEO:37.698605;-85.196427
X-APPLE-STRUCTURED-LOCATION;VALUE=URI;X-ADDRESS=160 Corporate Drive\, Sprin
 gfield\, Kentucky\, 40069\, Washington County\, United States;X-APPLE-RADI
 US=100;X-TITLE=ECTC Springfield Campus:geo:37.698605,-85.196427
END:VEVENT
BEGIN:VTIMEZONE
TZID:America/Kentucky/Louisville
X-LIC-LOCATION:America/Kentucky/Louisville
BEGIN:DAYLIGHT
DTSTART:20240310T030000
TZOFFSETFROM:-0500
TZOFFSETTO:-0400
TZNAME:EDT
END:DAYLIGHT
END:VTIMEZONE
END:VCALENDAR