BEGIN:VCALENDAR
VERSION:2.0
PRODID:-//wp-events-plugin.com//7.2.3.1//EN
BEGIN:VEVENT
UID:9189@visitlebanonky.com
DTSTART;TZID=America/Kentucky/Louisville:20260424T183000
DTEND;TZID=America/Kentucky/Louisville:20260424T203000
DTSTAMP:20260414T211031Z
URL:https://visitlebanonky.com/events/end-of-year-youth-party/
SUMMARY:End of Year Youth Party
DESCRIPTION:The date for our next youth night has changed. End of year part
 y is now on Friday April 24th due to the Spring Social at SFX this weekend
 . All 8th-12th graders are welcome. This is the last youth night of the sc
 hool year. We’ll be taking a short break and then resume monthly gatheri
 ngs next fall. We are hopping to have some events over the summer and will
  announce those at a later date. Find this and other church events HERE
ATTACH;FMTTYPE=image/jpeg:https://visitlebanonky.com/wp-content/uploads/20
 26/04/youth-night.jpg
CATEGORIES:Community
LOCATION:St Francis Xavier Catholic Church\, 108 Main St.\, Raywick\, KY\, 
 40060\, Marion County\, United States
X-APPLE-STRUCTURED-LOCATION;VALUE=URI;X-ADDRESS=108 Main St.\, Raywick\, KY
 \, 40060\, Marion County\, United States;X-APPLE-RADIUS=100;X-TITLE=St Fra
 ncis Xavier Catholic Church:geo:0,0
END:VEVENT
BEGIN:VTIMEZONE
TZID:America/Kentucky/Louisville
X-LIC-LOCATION:America/Kentucky/Louisville
BEGIN:DAYLIGHT
DTSTART:20260308T030000
TZOFFSETFROM:-0500
TZOFFSETTO:-0400
TZNAME:EDT
END:DAYLIGHT
END:VTIMEZONE
END:VCALENDAR