BEGIN:VCALENDAR
VERSION:2.0
PRODID:-//wp-events-plugin.com//7.2.3.1//EN
BEGIN:VEVENT
UID:9126@visitlebanonky.com
DTSTART;TZID=America/Kentucky/Louisville:20260509T160000
DTEND;TZID=America/Kentucky/Louisville:20260509T223000
DTSTAMP:20260327T173707Z
URL:https://visitlebanonky.com/events/enduro-derby-at-the-marion-county-fa
 irgrounds-6/
SUMMARY:Enduro Derby at the Marion County Fairgrounds
DESCRIPTION:Follow the Marion County Fairgrounds on Facebook HERE for more 
 information.  \n \n\n 
ATTACH;FMTTYPE=image/jpeg:https://visitlebanonky.com/wp-content/uploads/20
 26/03/enduro-derby.jpg
CATEGORIES:Official
LOCATION:Marion County Fairgrounds\, 593 Fairgrounds Road\, Lebanon\, Kentu
 cky\, 40033\, Marion County\, United States
GEO:37.564189;-85.238475
X-APPLE-STRUCTURED-LOCATION;VALUE=URI;X-ADDRESS=593 Fairgrounds Road\, Leba
 non\, Kentucky\, 40033\, Marion County\, United States;X-APPLE-RADIUS=100;
 X-TITLE=Marion County Fairgrounds:geo:37.564189,-85.238475
END:VEVENT
BEGIN:VTIMEZONE
TZID:America/Kentucky/Louisville
X-LIC-LOCATION:America/Kentucky/Louisville
BEGIN:DAYLIGHT
DTSTART:20260308T030000
TZOFFSETFROM:-0500
TZOFFSETTO:-0400
TZNAME:EDT
END:DAYLIGHT
END:VTIMEZONE
END:VCALENDAR