BEGIN:VCALENDAR
VERSION:2.0
PRODID:-//wp-events-plugin.com//7.2.3.1//EN
BEGIN:VEVENT
UID:8528@visitlebanonky.com
DTSTART;TZID=America/Kentucky/Louisville:20260131T000000
DTEND;TZID=America/Kentucky/Louisville:20260131T000000
DTSTAMP:20260129T193738Z
URL:https://visitlebanonky.com/events/entertainment-at-chasers-in-downtown
 -lebanon-2026-01-09-2026-01-10-2026-01-16-2026-01-17-2026-01-23-2026-01-24
 -2026-01-30-2026-01-31/
SUMMARY:Entertainment at Chasers in Downtown Lebanon - Walt's Last Bash
DESCRIPTION:Come out to Chaser’s Restaurant in downtown Lebanon for a gre
 at meal\, drinks and nightly entertainment. For information on who is play
 ing\, specials and more\, follow Chaser’s Restaurant on Facebook HERE  \
 n\nThis last call is gonna hit different. We’re turning the page and clo
 sing out an era.\nNot only is it Walt’s last night at Chasers\, but the 
 dream team behind the bar is signing off too.\nJoin us for one last pour\,
  one last round\, and one last memory together. You don’t wanna miss it.
  🍻🖤
ATTACH;FMTTYPE=image/jpeg:https://visitlebanonky.com/wp-content/uploads/20
 26/01/walts.jpg
CATEGORIES:Community
LOCATION:Chasers Restaurant\, 110 N. Proctor Knott Ave.\, Lebanon\, Kentuck
 y\, 40033\, Marion County\, United States
GEO:37.56962;-85.25468
X-APPLE-STRUCTURED-LOCATION;VALUE=URI;X-ADDRESS=110 N. Proctor Knott Ave.\,
  Lebanon\, Kentucky\, 40033\, Marion County\, United States;X-APPLE-RADIUS
 =100;X-TITLE=Chasers Restaurant:geo:37.56962,-85.25468
END:VEVENT
BEGIN:VTIMEZONE
TZID:America/Kentucky/Louisville
X-LIC-LOCATION:America/Kentucky/Louisville
BEGIN:STANDARD
DTSTART:20251102T010000
TZOFFSETFROM:-0400
TZOFFSETTO:-0500
TZNAME:EST
END:STANDARD
END:VTIMEZONE
END:VCALENDAR