BEGIN:VCALENDAR
VERSION:2.0
PRODID:-//wp-events-plugin.com//7.2.3.1//EN
BEGIN:VEVENT
UID:7544@visitlebanonky.com
DTSTART;TZID=America/Kentucky/Louisville:20250513T183000
DTEND;TZID=America/Kentucky/Louisville:20250513T203000
DTSTAMP:20250512T161610Z
URL:https://visitlebanonky.com/events/etiquette-espresso-a-trivia-flight-n
 ight/
SUMMARY:Etiquette & Espresso: A Trivia & Flight Night- CANCELLED
DESCRIPTION: 
CATEGORIES:Official
LOCATION:School Grounds Coffee\, 237 N. Spalding Ave\, Lebanon\, KY/Marion\
 , 40033\, Marion County\, United States
X-APPLE-STRUCTURED-LOCATION;VALUE=URI;X-ADDRESS=237 N. Spalding Ave\, Leban
 on\, KY/Marion\, 40033\, Marion County\, United States;X-APPLE-RADIUS=100;
 X-TITLE=School Grounds Coffee:geo:0,0
END:VEVENT
BEGIN:VTIMEZONE
TZID:America/Kentucky/Louisville
X-LIC-LOCATION:America/Kentucky/Louisville
BEGIN:DAYLIGHT
DTSTART:20250309T030000
TZOFFSETFROM:-0500
TZOFFSETTO:-0400
TZNAME:EDT
END:DAYLIGHT
END:VTIMEZONE
END:VCALENDAR