BEGIN:VCALENDAR
VERSION:2.0
PRODID:-//wp-events-plugin.com//7.2.3.1//EN
BEGIN:VEVENT
UID:8667@visitlebanonky.com
DTSTART;TZID=America/Kentucky/Louisville:20260328T093000
DTEND;TZID=America/Kentucky/Louisville:20260328T160000
DTSTAMP:20260219T141851Z
URL:https://visitlebanonky.com/events/fair-market-home-garden-and-boutique
 -showcase-2/
SUMMARY:Fair Market Home\, Garden and Boutique Showcase
DESCRIPTION:You can follow this event on Facebook HERE You will want to che
 ck out the vendor spotlights. There are so many great vendors.
ATTACH;FMTTYPE=image/jpeg:https://visitlebanonky.com/wp-content/uploads/20
 26/01/fair-market-1.jpg
CATEGORIES:Official
LOCATION:Marion County Fairgrounds\, 729 Fairgrounds Road\, LEBANON\, KY\, 
 40033\, Marion County\, United States
X-APPLE-STRUCTURED-LOCATION;VALUE=URI;X-ADDRESS=729 Fairgrounds Road\, LEBA
 NON\, KY\, 40033\, Marion County\, United States;X-APPLE-RADIUS=100;X-TITL
 E=Marion County Fairgrounds:geo:0,0
END:VEVENT
BEGIN:VTIMEZONE
TZID:America/Kentucky/Louisville
X-LIC-LOCATION:America/Kentucky/Louisville
BEGIN:DAYLIGHT
DTSTART:20260308T030000
TZOFFSETFROM:-0500
TZOFFSETTO:-0400
TZNAME:EDT
END:DAYLIGHT
END:VTIMEZONE
END:VCALENDAR