BEGIN:VCALENDAR
VERSION:2.0
PRODID:-//wp-events-plugin.com//7.2.3.1//EN
BEGIN:VEVENT
UID:5965@visitlebanonky.com
DTSTART;TZID=America/Kentucky/Louisville:20240817T090000
DTEND;TZID=America/Kentucky/Louisville:20240817T120000
DTSTAMP:20240805T182014Z
URL:https://visitlebanonky.com/events/fall-baseball-softball-signups-at-gr
 aham-memorial-park-2/
SUMMARY:Fall Baseball/Softball Signups at Graham Memorial Park
DESCRIPTION:
ATTACH;FMTTYPE=image/jpeg:https://visitlebanonky.com/wp-content/uploads/20
 24/08/fall-ball.jpg
CATEGORIES:Community
LOCATION:Graham Memorial Park\, 701 Park Drive\, Lebanon\, KY/ Marion\, 400
 33\, Marion County\, United States
GEO:40.32583;-76.438486
X-APPLE-STRUCTURED-LOCATION;VALUE=URI;X-ADDRESS=701 Park Drive\, Lebanon\, 
 KY/ Marion\, 40033\, Marion County\, United States;X-APPLE-RADIUS=100;X-TI
 TLE=Graham Memorial Park:geo:40.32583,-76.438486
END:VEVENT
BEGIN:VTIMEZONE
TZID:America/Kentucky/Louisville
X-LIC-LOCATION:America/Kentucky/Louisville
BEGIN:DAYLIGHT
DTSTART:20240310T030000
TZOFFSETFROM:-0500
TZOFFSETTO:-0400
TZNAME:EDT
END:DAYLIGHT
END:VTIMEZONE
END:VCALENDAR