BEGIN:VCALENDAR
VERSION:2.0
PRODID:-//wp-events-plugin.com//7.2.3.1//EN
BEGIN:VEVENT
UID:6291@visitlebanonky.com
DTSTART;TZID=America/Kentucky/Louisville:20241030T180000
DTEND;TZID=America/Kentucky/Louisville:20241030T200000
DTSTAMP:20241017T213156Z
URL:https://visitlebanonky.com/events/fall-festival-at-open-arms-community
 -church/
SUMMARY:Fall Festival at Open Arms Community Church
DESCRIPTION:All are invited to join us at Open Arms Community Church for a 
 night of Fall fun and fellowship on Wednesday\, October 30 at 6 p.m.\n\nIf
  you are participating in the Chili Cook-off please have your chili at the
  church by 5:30 p.m.
ATTACH;FMTTYPE=image/jpeg:https://visitlebanonky.com/wp-content/uploads/20
 24/10/fall-festival-open-arms.jpg
CATEGORIES:Community
LOCATION:Open Arms Community Church\, 2205 Danville Rd.\, Lebanon\, Kentuck
 y\, 40033\, Marion County\, United States
GEO:37.578429;-85.212781
X-APPLE-STRUCTURED-LOCATION;VALUE=URI;X-ADDRESS=2205 Danville Rd.\, Lebanon
 \, Kentucky\, 40033\, Marion County\, United States;X-APPLE-RADIUS=100;X-T
 ITLE=Open Arms Community Church:geo:37.578429,-85.212781
END:VEVENT
BEGIN:VTIMEZONE
TZID:America/Kentucky/Louisville
X-LIC-LOCATION:America/Kentucky/Louisville
BEGIN:DAYLIGHT
DTSTART:20240310T030000
TZOFFSETFROM:-0500
TZOFFSETTO:-0400
TZNAME:EDT
END:DAYLIGHT
END:VTIMEZONE
END:VCALENDAR