BEGIN:VCALENDAR
VERSION:2.0
PRODID:-//wp-events-plugin.com//7.2.3.1//EN
BEGIN:VEVENT
UID:7818@visitlebanonky.com
DTSTART;TZID=America/Kentucky/Louisville:20250927T000000
DTEND;TZID=America/Kentucky/Louisville:20250928T000000
DTSTAMP:20250825T195507Z
URL:https://visitlebanonky.com/events/fall-main-street-market-at-venue-68-
 2/
SUMMARY:Fall Main Street Market at Venue 68
DESCRIPTION:‼️VENDOR APPLICATIONS OPEN‼️\nhttps://form.jotform.com/
 250755773924164\nThis is the same weekend as Marion County Country Ham Day
 s\n
ATTACH;FMTTYPE=image/jpeg:https://visitlebanonky.com/wp-content/uploads/20
 25/07/fall-main-st-market.jpg
CATEGORIES:Community
LOCATION:Venue 68\, 212 W Main St\, Lebanon\, KY/Marion\, 40033\, United St
 ates
X-APPLE-STRUCTURED-LOCATION;VALUE=URI;X-ADDRESS=212 W Main St\, Lebanon\, K
 Y/Marion\, 40033\, United States;X-APPLE-RADIUS=100;X-TITLE=Venue 68:geo:0
 ,0
END:VEVENT
BEGIN:VTIMEZONE
TZID:America/Kentucky/Louisville
X-LIC-LOCATION:America/Kentucky/Louisville
BEGIN:DAYLIGHT
DTSTART:20250309T030000
TZOFFSETFROM:-0500
TZOFFSETTO:-0400
TZNAME:EDT
END:DAYLIGHT
END:VTIMEZONE
END:VCALENDAR