BEGIN:VCALENDAR
VERSION:2.0
PRODID:-//wp-events-plugin.com//7.2.3.1//EN
BEGIN:VEVENT
UID:5975@visitlebanonky.com
DTSTART;TZID=America/Kentucky/Louisville:20240809T000000
DTEND;TZID=America/Kentucky/Louisville:20240814T000000
DTSTAMP:20240809T182622Z
URL:https://visitlebanonky.com/events/fall-soccer-registration/
SUMMARY:Fall Soccer Registration
DESCRIPTION:From their Facebook group at https://www.facebook.com/groups/12
 0817494599182/\n\nFALL 2024 REGISTRATION IS OPEN!! We have moved the proce
 ss to a new system\, GotSport\, that has proven to be VERY user friendly s
 o far. If you have any issues\, please feel free to message me or MCYSA Bo
 ard President Jim Eubank. \nMarion County Youth Soccer Association registr
 ation for the 24/25 season CLOSES ON August 15th.\nMCYSA offers recreation
 al soccer for children ages 4 -13 (on their 2024 birthday). We offer U6\, 
 U8\, U10\, U12\, and U14 divisions. Player age/divisions are determined ac
 cording to Kentucky Youth Soccer Association's rules. Please see the "Age 
 Group For Rec Soccer" table below to determine which division your child w
 ill play in.\nAge Group for Rec Soccer\nUNDER 14 - 2011 and 2012\nUNDER 12
  - 2013 and 2014\nUNDER 10 - 2015 and 2016\nUNDER 8 - 2017 and 2018\nUNDER
  6 - 2019 and 2020\n**If your child turns 4 in 2024\, they will be eligibl
 e to play in the fall.**
ATTACH;FMTTYPE=image/jpeg:https://visitlebanonky.com/wp-content/uploads/20
 24/08/soccer.jpg
CATEGORIES:Community
END:VEVENT
BEGIN:VTIMEZONE
TZID:America/Kentucky/Louisville
X-LIC-LOCATION:America/Kentucky/Louisville
BEGIN:DAYLIGHT
DTSTART:20240310T030000
TZOFFSETFROM:-0500
TZOFFSETTO:-0400
TZNAME:EDT
END:DAYLIGHT
END:VTIMEZONE
END:VCALENDAR