BEGIN:VCALENDAR
VERSION:2.0
PRODID:-//wp-events-plugin.com//7.2.3.1//EN
BEGIN:VEVENT
UID:7638@visitlebanonky.com
DTSTART;TZID=America/Kentucky/Louisville:20250606T000000
DTEND;TZID=America/Kentucky/Louisville:20250607T000000
DTSTAMP:20250529T052933Z
URL:https://visitlebanonky.com/events/family-fellowship-prayer-center-chur
 ch-yard-sale/
SUMMARY:Family Fellowship Prayer Center Church Yard Sale
DESCRIPTION:
ATTACH;FMTTYPE=image/jpeg:https://visitlebanonky.com/wp-content/uploads/20
 25/05/yys.jpg
CATEGORIES:Community
LOCATION:Future Site of Family Fellowship Prayer Center\, 2843 Danville Hig
 hway\, Lebanon\, KY\, 40033\, Marion County\, United States
X-APPLE-STRUCTURED-LOCATION;VALUE=URI;X-ADDRESS=2843 Danville Highway\, Leb
 anon\, KY\, 40033\, Marion County\, United States;X-APPLE-RADIUS=100;X-TIT
 LE=Future Site of Family Fellowship Prayer Center:geo:0,0
END:VEVENT
BEGIN:VTIMEZONE
TZID:America/Kentucky/Louisville
X-LIC-LOCATION:America/Kentucky/Louisville
BEGIN:DAYLIGHT
DTSTART:20250309T030000
TZOFFSETFROM:-0500
TZOFFSETTO:-0400
TZNAME:EDT
END:DAYLIGHT
END:VTIMEZONE
END:VCALENDAR