BEGIN:VCALENDAR
VERSION:2.0
PRODID:-//wp-events-plugin.com//7.2.3.1//EN
BEGIN:VEVENT
UID:9247@visitlebanonky.com
DTSTART;TZID=America/Kentucky/Louisville:20260826T080000
DTEND;TZID=America/Kentucky/Louisville:20260826T123000
DTSTAMP:20260423T181122Z
URL:https://visitlebanonky.com/events/farmers-market-in-downtown-lebanon-2
 -2026-05-06-2026-05-09-2026-05-13-2026-05-16-2026-05-20-2026-05-23-2026-05
 -27-2026-05-30-2026-06-03-2026-06-06-2026-06-10-2026-06-13-2026-06-17-2026
 -0-22-2026-08-26/
SUMMARY:Farmers Market in Downtown Lebanon
DESCRIPTION:Follow on Facebook HERE\n \nJoin us as the Lebanon Farmers Mark
 et every Wednesday and Saturday from 8 a.m. till 12:30 p.m.\nWe’ll have 
 an incredible variety waiting for you\, including:\n* Fresh local produce\
 n🍞 Baked goods\n🥩 Meat\n🍯 Honey\n🥚 Eggs\n🪴 Plants & cut flo
 wers\n🌱 Herbal salves\n🪡 Crafts\n👛 Leather goods\n🧼 Soaps\n
 🕯Candles\n…and so much more from your favorite local makers.\nCome re
 connect with your longtime vendors and help us welcome the new members joi
 ning our market family this year. It’s the perfect way to start your Sat
 urday and support your community.\nWe can’t wait to see you there. 🌱
 💛
ATTACH;FMTTYPE=image/jpeg:https://visitlebanonky.com/wp-content/uploads/20
 25/04/farmers-market-e1756094556118.jpg
CATEGORIES:Community
LOCATION:Downtown Pavilion\, 230 W ML King Ave\, Lebanon\, KY\, 40033\, Mar
 ion County\, United States
X-APPLE-STRUCTURED-LOCATION;VALUE=URI;X-ADDRESS=230 W ML King Ave\, Lebanon
 \, KY\, 40033\, Marion County\, United States;X-APPLE-RADIUS=100;X-TITLE=D
 owntown Pavilion:geo:0,0
END:VEVENT
BEGIN:VTIMEZONE
TZID:America/Kentucky/Louisville
X-LIC-LOCATION:America/Kentucky/Louisville
BEGIN:DAYLIGHT
DTSTART:20260308T030000
TZOFFSETFROM:-0500
TZOFFSETTO:-0400
TZNAME:EDT
END:DAYLIGHT
END:VTIMEZONE
END:VCALENDAR