BEGIN:VCALENDAR
VERSION:2.0
PRODID:-//wp-events-plugin.com//7.2.3.1//EN
BEGIN:VEVENT
UID:9212@visitlebanonky.com
DTSTART;TZID=America/Kentucky/Louisville:20260502T080000
DTEND;TZID=America/Kentucky/Louisville:20260502T123000
DTSTAMP:20260423T180301Z
URL:https://visitlebanonky.com/events/farmers-market-in-downtown-lebanon-2
 /
SUMMARY:Farmers Market in Downtown Lebanon
DESCRIPTION:Follow on Facebook HERE \nFind the opening day event page on Fa
 cebook HERE\n\n🌾 Opening Day is Almost Here! 🌾\nJoin us as the Leban
 on Farmers Market kicks off the 2026 season on Saturday\, May 2 from 8 a.m
 . till 12:30 p.m.\nWe’ll have an incredible variety waiting for you\, in
 cluding:\n* Fresh local produce\n🍞 Baked goods\n🥩 Meat\n🍯 Honey\n
 🥚 Eggs\n🪴 Plants & cut flowers\n🌱 Herbal salves\n🪡 Crafts\n
 👛 Leather goods\n🧼 Soaps\n🕯Candles\n…and so much more from your
  favorite local makers.\nCome reconnect with your longtime vendors and hel
 p us welcome the new members joining our market family this year. It’s t
 he perfect way to start your Saturday and support your community.\nWe can
 ’t wait to see you there. 🌱💛
ATTACH;FMTTYPE=image/jpeg:https://visitlebanonky.com/wp-content/uploads/20
 25/04/farmers-market-e1756094556118.jpg
CATEGORIES:Community
LOCATION:Lebanon Farmers Market\, 230 W ML King Ave\, Lebanon\, Kentucky\, 
 40033\, Marion County\, United States
X-APPLE-STRUCTURED-LOCATION;VALUE=URI;X-ADDRESS=230 W ML King Ave\, Lebanon
 \, Kentucky\, 40033\, Marion County\, United States;X-APPLE-RADIUS=100;X-T
 ITLE=Lebanon Farmers Market:geo:0,0
END:VEVENT
BEGIN:VTIMEZONE
TZID:America/Kentucky/Louisville
X-LIC-LOCATION:America/Kentucky/Louisville
BEGIN:DAYLIGHT
DTSTART:20260308T030000
TZOFFSETFROM:-0500
TZOFFSETTO:-0400
TZNAME:EDT
END:DAYLIGHT
END:VTIMEZONE
END:VCALENDAR