BEGIN:VCALENDAR
VERSION:2.0
PRODID:-//wp-events-plugin.com//7.2.3.1//EN
BEGIN:VEVENT
UID:8855@visitlebanonky.com
DTSTART;TZID=America/Kentucky/Louisville:20260225T100000
DTEND;TZID=America/Kentucky/Louisville:20260225T110000
DTSTAMP:20260209T170949Z
URL:https://visitlebanonky.com/events/farmers-market-vendor-application-me
 eting/
SUMMARY:Farmer's Market Vendor Application Meeting
DESCRIPTION:The Lebanon KY Farmer’s Market will hold its 2026 Vendor Appl
 ication meeting on February 25\, 2026\, at the Marion County Event Center 
 at 10 a.m. in Meeting Room # 1.\nThis meeting will provide an overview of 
 market requirements\, vendor expectations\, and operational guidelines for
  the upcoming season. All prospective and returning vendors need to attend
  to ensure a clear understanding of procedures and opportunities for parti
 cipation.\nWe appreciate the continued support of our local growers\, arti
 sans\, and community partners\, and we look forward to a productive and su
 ccessful market season ahead.\nFollow Lebanon KY Farmer's Market on Facebo
 ok HERE\nFollow this event on Facebook HERE
ATTACH;FMTTYPE=image/jpeg:https://visitlebanonky.com/wp-content/uploads/20
 26/02/farmers-market.jpg
CATEGORIES:Official
LOCATION:Marion County Event Center and Sportsplex\, 101 Independence Drive
  \, LEBANON\, KY\, 40033\, Marion County\, United States
X-APPLE-STRUCTURED-LOCATION;VALUE=URI;X-ADDRESS=101 Independence Drive \, L
 EBANON\, KY\, 40033\, Marion County\, United States;X-APPLE-RADIUS=100;X-T
 ITLE=Marion County Event Center and Sportsplex:geo:0,0
END:VEVENT
BEGIN:VTIMEZONE
TZID:America/Kentucky/Louisville
X-LIC-LOCATION:America/Kentucky/Louisville
BEGIN:STANDARD
DTSTART:20251102T010000
TZOFFSETFROM:-0400
TZOFFSETTO:-0500
TZNAME:EST
END:STANDARD
END:VTIMEZONE
END:VCALENDAR