BEGIN:VCALENDAR
VERSION:2.0
PRODID:-//wp-events-plugin.com//7.2.3.1//EN
BEGIN:VEVENT
UID:8853@visitlebanonky.com
DTSTART;TZID=America/Kentucky/Louisville:20260213T180000
DTEND;TZID=America/Kentucky/Louisville:20260213T200000
DTSTAMP:20260209T170046Z
URL:https://visitlebanonky.com/events/father-daughter-dance-2/
SUMMARY:Father Daughter Dance
DESCRIPTION:Calling all girl dads!  Join us on Feb. 13 from 6-8 p.m. for ou
 r annual Father Daughter Dance!  All father figures are welcome.  We can't
  wait to see you all and have some fun!\n\nFor complete details on things 
 happening at the library:\nFollow on Facebook HERE  \nSign up for the emai
 led newsletter HERE   \n\nSome events require pre registration.\n\nCheck o
 ut the Loretto branch of the Marion County Public Library located at 255 S
 chool Drive in Loretto\, KY. Loretto hours are Monday\, Wednesday and Thur
 sday from 10 a.m. till 5:30 p.m. and every 4th Friday from 10 a.m. till 2 
 p.m. Follow Loretto on Facebook HERE \n\nWebsite Event Page HERE\nBookmobi
 le Services Sign-Up HERE\n \n \n \n 
ATTACH;FMTTYPE=image/jpeg:https://visitlebanonky.com/wp-content/uploads/20
 26/02/father-daughter.jpg
CATEGORIES:Community
LOCATION:Marion County Public Library\, 201 E. Main Street\, Lebanon\, KY/M
 arion\, 40033\, Marion County\, United States
X-APPLE-STRUCTURED-LOCATION;VALUE=URI;X-ADDRESS=201 E. Main Street\, Lebano
 n\, KY/Marion\, 40033\, Marion County\, United States;X-APPLE-RADIUS=100;X
 -TITLE=Marion County Public Library:geo:0,0
END:VEVENT
BEGIN:VTIMEZONE
TZID:America/Kentucky/Louisville
X-LIC-LOCATION:America/Kentucky/Louisville
BEGIN:STANDARD
DTSTART:20251102T010000
TZOFFSETFROM:-0400
TZOFFSETTO:-0500
TZNAME:EST
END:STANDARD
END:VTIMEZONE
END:VCALENDAR